Workbook
Name ListaDepartamentos: 'PRECIOS OCTUBRE 2026'!$C$8:$C$32
Name ListaDepositos: 'PRECIOS OCTUBRE 2026'!$H$38:$H$42
Name ListaEstacionamientos: 'PRECIOS OCTUBRE 2026'!$B$38:$B$48

Sheet FInanciamiento 
C4: PROFORMA CRUZ MIRADOR
B6: CLIENTE : | F6: ASESOR :
B7: FECHA : | C7: =TODAY() -> 46313 | D7: DNI : | F7: TELÉFONO:
B9: DEPARTAMENTO: | D9: 803 | E9: =MATCH('FInanciamiento '!D9,'PRECIOS OCTUBRE 2026'!C7:C32,0) -> 24 | F9: Precio Dpto: | H9: {=INDEX('PRECIOS OCTUBRE 2026'!I7:I32,MATCH('FInanciamiento '!D9,'PRECIOS OCTUBRE 2026'!C7:C32,0))} -> 493290
B10: Área (m2): | D10: =INDEX('PRECIOS OCTUBRE 2026'!F7:F32,MATCH('FInanciamiento '!D9,'PRECIOS OCTUBRE 2026'!C7:C32,0)) -> 78.3 | F10: Descuento | H10: 0
B11: PISO | D11: {=INDEX('PRECIOS OCTUBRE 2026'!D7:D32,MATCH('FInanciamiento '!D9,'PRECIOS OCTUBRE 2026'!C7:C32,0))} -> PISO VIII | F11: Precio Final | H11: =H9-H10 -> 493290
B13: ESTACIONAMIENTO: | D13: 0 | E13: =MATCH('FInanciamiento '!D13,'PRECIOS OCTUBRE 2026'!B39:B48,0) -> #N/A | F13: Precio Estac: | H13: =IF(D13=0,0,IFERROR(INDEX('PRECIOS OCTUBRE 2026'!E39:E48,MATCH(D13,'PRECIOS OCTUBRE 2026'!B39:B48,0)),0)) -> 0
B14: Área (m2): | D14: =INDEX('PRECIOS OCTUBRE 2026'!C38:C48,MATCH('FInanciamiento '!D13,'PRECIOS OCTUBRE 2026'!B38:B48,0)) -> 0 | F14: Descuento | H14: 0
F15: Precio Final | H15: =H13-H14 -> 0
B17: DEPÓSITO | D17: D-02 | E17: =MATCH('FInanciamiento '!D17,'PRECIOS OCTUBRE 2026'!H38:H42,0) -> 3 | F17: Precio Depósito: | H17: =INDEX('PRECIOS OCTUBRE 2026'!N38:N42,MATCH('FInanciamiento '!D17,'PRECIOS OCTUBRE 2026'!H38:H42,0)) -> 9670
B18: Área (m2): | D18: =INDEX('PRECIOS OCTUBRE 2026'!K38:K42,MATCH('FInanciamiento '!D17,'PRECIOS OCTUBRE 2026'!H38:H42,0)) -> 3.72 | F18: Descuento | H18: 0
F19: Precio Final | H19: =H17-H18 -> 9670
B20: Estado | D20: =IF(D9="","",IFERROR(_xlfn.XLOOKUP(D9,'PRECIOS OCTUBRE 2026'!C7:C32,'PRECIOS OCTUBRE 2026'!M7:M32),"No disponible")) -> DISPONIBLE
F21: PRECIO TOTAL | H21: =SUM(H11+H15+H19) -> 502960
B23: FINANCIEAMIENTO DIRECTO
B24: N° | E24: CUOTAS | G24: MONTO
B25: INICIAL | E25: 0.3 | G25: =E25*$H$21 -> 150888
B26: Casco Rojo | E26: 0.4 | G26: =E26*$H$21 -> 201184
B27: Casco Gris | E27: 0.2 | G27: =E27*$H$21 -> 100592
B28: Entrega | E28: 0.1 | G28: =E28*$H$21 -> 50296
B29: Total | E29: =SUM(E25:F28) -> 1 | G29: =SUM(G25:H28) -> 502960
B31: CUENTA BANCARIA BBVA
B33: CRUZ MIRADOR INMOBILIARIA S.A.C. / RUC : 20000000002
B34: SOLES
B35: CTA CTE: 0011-0661-0100038472 CCI: 011-661-000100038472-58
B37: OF. LIMA: Av. Salaverry 2150, oficina 401, Jesús María.
B38: SALA DE VENTAS: Av. Los Fresnos 1180, Jesús María (Ref.: Frente al campo de Marte).
B39: Horario de Atención: Lunes a Viernes: 10:00 - 19:00 horas Sábados: 9:00 - 13:00 horas
B41: (*) Visitas guiadas al proyecto todos los días. Empresa y datos ficticios, solo para demostración.

Sheet PRECIOS OCTUBRE 2026
B2: CUADRO DE PRECIOS DESGLOZADO CON LAVANDERÍAS | F2: Tipo de Cambio | G2: 3.5
I4: Precio FINAL
B5: N° | C5: Dpto | D5: Fachada | E5: Tipo | F5: Área Vendible | G5: Lavanderia | H5: Nro lavanderia | I5: Precio Total Soles | J5: Precio Total Dolares | K5: Precio M2 Soles | L5: Precio M2 Dolares | M5: Disponibilidad
B7: 0 | C7: 0 | D7: 0 | E7: 0 | F7: 0 | G7: 0 | H7: 0 | I7: 0 | J7: =I7/$G$2 -> 0 | K7: 0 | L7: 0 | M7: 0
B8: 1 | C8: 101 | D8: PISO I | E8: FLAT | F8: 70.2 | I8: 417690 | J8: =I8/$G$2 -> 119340 | K8: =I8/F8 -> 5950 | L8: =K8/$G$2 -> 1700 | M8: VENDIDO
B9: 2 | C9: 102 | D9: PISO I | E9: FLAT | F9: 85.6 | I9: 509320 | J9: =I9/$G$2 -> 145520 | K9: =I9/F9 -> 5950 | L9: =K9/$G$2 -> 1700 | M9: DISPONIBLE
B10: 3 | C10: 201 | D10: PISO II | E10: FLAT | F10: 41.1 | I10: 244550 | J10: =I10/$G$2 -> 69871.429 | K10: =I10/F10 -> 5950.1217 | L10: =K10/$G$2 -> 1700.0348 | M10: DISPONIBLE
B11: 4 | C11: 202 | D11: PISO II | E11: FLAT | F11: 57.4 | I11: 341530 | J11: =I11/$G$2 -> 97580 | K11: =I11/F11 -> 5950 | L11: =K11/$G$2 -> 1700 | M11: DISPONIBLE
B12: 5 | C12: 203 | D12: PISO II | E12: FLAT | F12: 78.3 | I12: 465890 | J12: =I12/$G$2 -> 133111.43 | K12: =I12/F12 -> 5950.0639 | L12: =K12/$G$2 -> 1700.0182 | M12: DISPONIBLE
B13: 6 | C13: 301 | D13: PISO III | E13: FLAT | F13: 41.1 | I13: 244550 | J13: =I13/$G$2 -> 69871.429 | K13: =I13/F13 -> 5950.1217 | L13: =K13/$G$2 -> 1700.0348 | M13: DISPONIBLE
B14: 7 | C14: 302 | D14: PISO III | E14: FLAT | F14: 57.4 | I14: 341530 | J14: =I14/$G$2 -> 97580 | K14: =I14/F14 -> 5950 | L14: =K14/$G$2 -> 1700 | M14: DISPONIBLE
B15: 8 | C15: 303 | D15: PISO III | E15: FLAT | F15: 78.3 | I15: 465890 | J15: =I15/$G$2 -> 133111.43 | K15: =I15/F15 -> 5950.0639 | L15: =K15/$G$2 -> 1700.0182 | M15: DISPONIBLE
B16: 9 | C16: 401 | D16: PISO IV | E16: FLAT | F16: 41.1 | I16: 251740 | J16: =I16/$G$2 -> 71925.714 | K16: =I16/F16 -> 6125.0608 | L16: =K16/$G$2 -> 1750.0174 | M16: DISPONIBLE
B17: 10 | C17: 402 | D17: PISO IV | E17: FLAT | F17: 57.4 | I17: 351580 | J17: =I17/$G$2 -> 100451.43 | K17: =I17/F17 -> 6125.0871 | L17: =K17/$G$2 -> 1750.0249 | M17: BLOQUEADO
B18: 11 | C18: 403 | D18: PISO IV | E18: FLAT | F18: 78.3 | I18: 479590 | J18: =I18/$G$2 -> 137025.71 | K18: =I18/F18 -> 6125.0319 | L18: =K18/$G$2 -> 1750.0091 | M18: DISPONIBLE
B19: 12 | C19: 501 | D19: PISO V | E19: FLAT | F19: 41.1 | I19: 251740 | J19: =I19/$G$2 -> 71925.714 | K19: =I19/F19 -> 6125.0608 | L19: =K19/$G$2 -> 1750.0174 | M19: VENDIDO
... B32: 25 | C32: 902 | D32: PISO IX | E32: DUPLEX | F32: 96.2 | I32: 639730 | J32: =I32/$G$2 -> 182780 | K32: =I32/F32 -> 6650 | L32: =K32/$G$2 -> 1900 | M32: DISPONIBLE
B34: COCHERAS | H34: DEPOSITO
B36: N° Cochera | C36: M2 | D36: Precio x m2 Soles | E36: Precio en Soles | F36: Precio en dolares | H36: N° | I36: Deposito | K36: M2 | L36: X M2 | M36: TOTAL$ | N36: TOTAL SOLES
L37: Soles
B38: 0 | C38: 0 | D38: 0 | E38: 0 | F38: 0 | H38: 0 | I38: 0 | K38: 0 | L38: 0 | M38: 0 | N38: 0
B39: E-01 | C39: 13.1 | D39: =E39/C39 -> 3500 | E39: 45850 | F39: =E39/$G$2 -> 13100 | H39: D-01 | I39: Dep | K39: 5.05 | L39: =N39/K39 -> 2600 | M39: =L39*K39 -> 13130 | N39: 13130
B40: E-02 | C40: 16.7 | D40: =E40/C40 -> 3500 | E40: 58450 | F40: =E40/$G$2 -> 16700 | H40: D-02 | I40: Dep | K40: 3.72 | L40: =N40/K40 -> 2599.4624 | M40: =L40*K40 -> 9670 | N40: 9670
B41: E-03 | C41: 13.66 | D41: =E41/C41 -> 3500 | E41: 47810 | F41: =E41/$G$2 -> 13660 | H41: D-03 | I41: Dep | K41: 4.78 | L41: =N41/K41 -> 2600.4184 | M41: =L41*K41 -> 12430 | N41: 12430
B42: E-04 | C42: 14.11 | D42: =E42/C42 -> 3500.3544 | E42: 49390 | F42: =E42/$G$2 -> 14111.429 | H42: D-04 | I42: Dep | K42: 4.03 | L42: =N42/K42 -> 2600.4963 | M42: =L42*K42 -> 10480 | N42: 10480
B43: E-05 | C43: 12.44 | D43: =E43/C43 -> 3500 | E43: 43540 | F43: =E43/$G$2 -> 12440
B44: E-06 | C44: 15.72 | D44: =E44/C44 -> 3500 | E44: 55020 | F44: =E44/$G$2 -> 15720
B45: E-07 | C45: 12.83 | D45: =E45/C45 -> 3500.3897 | E45: 44910 | F45: =E45/$G$2 -> 12831.429
B46: E-08 | C46: 13.42 | D46: =E46/C46 -> 3500 | E46: 46970 | F46: =E46/$G$2 -> 13420
B47: E-09 | C47: 16.77 | D47: =E47/C47 -> 3500.2982 | E47: 58700 | F47: =E47/$G$2 -> 16771.429
B48: E-10 | C48: 16.82 | D48: =E48/C48 -> 3500 | E48: 58870 | F48: =E48/$G$2 -> 16820
